BEGIN:VCALENDAR
VERSION:2.0
PRODID:-//wp-events-plugin.com//7.2.3.1//EN
TZID:America/New_York
X-WR-TIMEZONE:America/New_York
BEGIN:VEVENT
UID:704@local144.ca
DTSTART;TZID=America/New_York:20250922T000000
DTEND;TZID=America/New_York:20250922T000000
DTSTAMP:20250623T135608Z
URL:https://www.local144.ca/events/127e-anniversaire-du-local-144/
SUMMARY:127e anniversaire du Local 144
DESCRIPTION:127 ans au service des tuyauteurs et soudeurs en tuyauterie du 
 Québec. 
CATEGORIES:Congés
END:VEVENT
BEGIN:VTIMEZONE
TZID:America/New_York
X-LIC-LOCATION:America/New_York
BEGIN:DAYLIGHT
DTSTART:20250309T030000
TZOFFSETFROM:-0500
TZOFFSETTO:-0400
TZNAME:EDT
END:DAYLIGHT
END:VTIMEZONE
END:VCALENDAR