BEGIN:VCALENDAR
VERSION:2.0
PRODID:-//wp-events-plugin.com//7.2.3.1//EN
TZID:America/New_York
X-WR-TIMEZONE:America/New_York
BEGIN:VEVENT
UID:37@local144.ca
DTSTART;TZID=America/New_York;VALUE=DATE:20221012
DTEND;TZID=America/New_York;VALUE=DATE:20221013
DTSTAMP:20221111T191928Z
URL:https://www.local144.ca/events/assemblee-regionale-granby/
SUMMARY:Assemblée régionale - Granby
DESCRIPTION:Le 2e mercredi de chaque mois. \nAu Saint-Ambroise Restaurant P
 ub\, 791\, rue Principale\, Granby\, &#224\; 19h30.\nLes mesures sanitaire
 s doivent &#234\;tre respect&#233\;es.
CATEGORIES:Assemblées
LOCATION:Granby\, \, 
X-APPLE-STRUCTURED-LOCATION;VALUE=URI;X-ADDRESS=\, ;X-APPLE-RADIUS=100;X-TI
 TLE=Granby:geo:0,0
END:VEVENT
BEGIN:VTIMEZONE
TZID:America/New_York
X-LIC-LOCATION:America/New_York
BEGIN:DAYLIGHT
DTSTART:20220313T030000
TZOFFSETFROM:-0500
TZOFFSETTO:-0400
TZNAME:EDT
END:DAYLIGHT
END:VTIMEZONE
END:VCALENDAR