BEGIN:VCALENDAR
VERSION:2.0
PRODID:-//wp-events-plugin.com//7.2.3.1//EN
TZID:America/New_York
X-WR-TIMEZONE:America/New_York
BEGIN:VEVENT
UID:33@local144.ca
DTSTART;TZID=America/New_York;VALUE=DATE:20221004
DTEND;TZID=America/New_York;VALUE=DATE:20221005
DTSTAMP:20221111T191927Z
URL:https://www.local144.ca/events/assemblee-regionale-joliette/
SUMMARY:Assemblée régionale - Joliette
DESCRIPTION:Le&#160\;1er mardi&#160\;de chaque mois.\n&#192\; la Salle des 
 Chevaliers de Colomb\, 355 rue Champlain\, &#224\; Joliette\, &#224\; 19 h
  30.\nRespect des r&#232\;gles sanitaires en vigueur.
CATEGORIES:Assemblées
LOCATION:Joliette\, \, 
X-APPLE-STRUCTURED-LOCATION;VALUE=URI;X-ADDRESS=\, ;X-APPLE-RADIUS=100;X-TI
 TLE=Joliette:geo:0,0
END:VEVENT
BEGIN:VTIMEZONE
TZID:America/New_York
X-LIC-LOCATION:America/New_York
BEGIN:DAYLIGHT
DTSTART:20220313T030000
TZOFFSETFROM:-0500
TZOFFSETTO:-0400
TZNAME:EDT
END:DAYLIGHT
END:VTIMEZONE
END:VCALENDAR