BEGIN:VCALENDAR
VERSION:2.0
PRODID:-//wp-events-plugin.com//7.2.3.1//EN
TZID:America/New_York
X-WR-TIMEZONE:America/New_York
BEGIN:VEVENT
UID:678@local144.ca
DTSTART;TZID=America/New_York:20261203T190000
DTEND;TZID=America/New_York:20261203T210000
DTSTAMP:20250526T145145Z
URL:https://www.local144.ca/events/assemblee-regionale-jonquiere-29/
SUMMARY:Assemblée régionale - Jonquière
DESCRIPTION:Au Delta Saguenay – Hôtel et Centre de congrès\, 2675\, bo
 ulevard du Royaume\, Jonquière\, à 19 h.
CATEGORIES:Assemblées
LOCATION:Saguenay-Lac Saint-Jean\, \, 
X-APPLE-STRUCTURED-LOCATION;VALUE=URI;X-ADDRESS=\, ;X-APPLE-RADIUS=100;X-TI
 TLE=Saguenay-Lac Saint-Jean:geo:0,0
END:VEVENT
BEGIN:VTIMEZONE
TZID:America/New_York
X-LIC-LOCATION:America/New_York
BEGIN:STANDARD
DTSTART:20261101T010000
TZOFFSETFROM:-0400
TZOFFSETTO:-0500
TZNAME:EST
END:STANDARD
END:VTIMEZONE
END:VCALENDAR