BEGIN:VCALENDAR
VERSION:2.0
PRODID:-//wp-events-plugin.com//7.2.3.1//EN
TZID:America/New_York
X-WR-TIMEZONE:America/New_York
BEGIN:VEVENT
UID:690@local144.ca
DTSTART;TZID=America/New_York:20261201T190000
DTEND;TZID=America/New_York:20261201T210000
DTSTAMP:20250526T150321Z
URL:https://www.local144.ca/events/assemblee-regionale-sorel-20/
SUMMARY:Assemblée régionale - Sorel
DESCRIPTION:Au Centre culturel de Sorel-Tracy\, 3015 Pl. des Loisirs\, sall
 e 202\, Sorel-Tracy\, QC J3P 7K1\, à 19 h.
CATEGORIES:Assemblées
LOCATION:Sorel\, \, 
X-APPLE-STRUCTURED-LOCATION;VALUE=URI;X-ADDRESS=\, ;X-APPLE-RADIUS=100;X-TI
 TLE=Sorel:geo:0,0
END:VEVENT
BEGIN:VTIMEZONE
TZID:America/New_York
X-LIC-LOCATION:America/New_York
BEGIN:STANDARD
DTSTART:20261101T010000
TZOFFSETFROM:-0400
TZOFFSETTO:-0500
TZNAME:EST
END:STANDARD
END:VTIMEZONE
END:VCALENDAR