BEGIN:VCALENDAR
VERSION:2.0
PRODID:-//wp-events-plugin.com//7.2.3.1//EN
TZID:America/New_York
X-WR-TIMEZONE:America/New_York
BEGIN:VEVENT
UID:35@local144.ca
DTSTART;TZID=America/New_York;VALUE=DATE:20221005
DTEND;TZID=America/New_York;VALUE=DATE:20221006
DTSTAMP:20221111T191928Z
URL:https://www.local144.ca/events/assemblee-regionale-st-jerome/
SUMMARY:Assemblée régionale - St-Jérôme
DESCRIPTION:Le 1er&#160\;mercredi de chaque mois.\nAu Bar Sportif\, 99\, ru
 e St-Georges\, St-J&#233\;r&#244\;me\, &#224\; 19 h 30.\nLes mesures sanit
 aires doivent &#234\;tre respect&#233\;es.
CATEGORIES:Assemblées
LOCATION:St-Jérôme\, \, 
X-APPLE-STRUCTURED-LOCATION;VALUE=URI;X-ADDRESS=\, ;X-APPLE-RADIUS=100;X-TI
 TLE=St-Jérôme:geo:0,0
END:VEVENT
BEGIN:VTIMEZONE
TZID:America/New_York
X-LIC-LOCATION:America/New_York
BEGIN:DAYLIGHT
DTSTART:20220313T030000
TZOFFSETFROM:-0500
TZOFFSETTO:-0400
TZNAME:EDT
END:DAYLIGHT
END:VTIMEZONE
END:VCALENDAR