BEGIN:VCALENDAR
VERSION:2.0
PRODID:-//wp-events-plugin.com//7.2.3.1//EN
TZID:America/New_York
X-WR-TIMEZONE:America/New_York
BEGIN:VEVENT
UID:699@local144.ca
DTSTART;TZID=America/New_York:20261208T190000
DTEND;TZID=America/New_York:20261208T210000
DTSTAMP:20250526T150712Z
URL:https://www.local144.ca/events/assemblee-regionale-valleyfield-21/
SUMMARY:Assemblée régionale - Valleyfield
DESCRIPTION:Au Resto-bar Club Touriste\, 133 rue Victoria\, Salaberry-de-V
 alleyfield\, à 19 h.
CATEGORIES:Assemblées
LOCATION:Valleyfield\, \, 
X-APPLE-STRUCTURED-LOCATION;VALUE=URI;X-ADDRESS=\, ;X-APPLE-RADIUS=100;X-TI
 TLE=Valleyfield:geo:0,0
END:VEVENT
BEGIN:VTIMEZONE
TZID:America/New_York
X-LIC-LOCATION:America/New_York
BEGIN:STANDARD
DTSTART:20261101T010000
TZOFFSETFROM:-0400
TZOFFSETTO:-0500
TZNAME:EST
END:STANDARD
END:VTIMEZONE
END:VCALENDAR