BEGIN:VCALENDAR
VERSION:2.0
PRODID:-//wp-events-plugin.com//7.2.3.1//EN
TZID:America/New_York
X-WR-TIMEZONE:America/New_York
BEGIN:VEVENT
UID:635@local144.ca
DTSTART;TZID=America/New_York;VALUE=DATE:20250712
DTEND;TZID=America/New_York;VALUE=DATE:20250713
DTSTAMP:20250513T144618Z
URL:https://www.local144.ca/events/journee-aux-glissades-deau-montreal-2/
SUMMARY:Journée aux glissades d'eau - Montréal
DESCRIPTION:
CATEGORIES:Activités
LOCATION:Montréal\, \, 
X-APPLE-STRUCTURED-LOCATION;VALUE=URI;X-ADDRESS=\, ;X-APPLE-RADIUS=100;X-TI
 TLE=Montréal:geo:0,0
END:VEVENT
BEGIN:VTIMEZONE
TZID:America/New_York
X-LIC-LOCATION:America/New_York
BEGIN:DAYLIGHT
DTSTART:20250309T030000
TZOFFSETFROM:-0500
TZOFFSETTO:-0400
TZNAME:EDT
END:DAYLIGHT
END:VTIMEZONE
END:VCALENDAR