
BEGIN:VCALENDAR
VERSION:2.0
PRODID:-//wp-events-plugin.com//7.2.3.1//EN
TZID:America/New_York
X-WR-TIMEZONE:America/New_York
BEGIN:VEVENT
UID:177@local144.ca
DTSTART;TZID=America/New_York;VALUE=DATE:20230715
DTEND;TZID=America/New_York;VALUE=DATE:20230716
DTSTAMP:20230530T194256Z
URL:https://www.local144.ca/events/journee-aux-glissades-deau/
SUMMARY:Journée aux glissades d'eau
DESCRIPTION:
CATEGORIES:Activités
END:VEVENT
BEGIN:VTIMEZONE
TZID:America/New_York
X-LIC-LOCATION:America/New_York
BEGIN:DAYLIGHT
DTSTART:20230312T030000
TZOFFSETFROM:-0500
TZOFFSETTO:-0400
TZNAME:EDT
END:DAYLIGHT
END:VTIMEZONE
END:VCALENDAR